BEGIN:VCALENDAR
VERSION:2.0
PRODID:-//OWL Rocks - ECPv6.15.20//NONSGML v1.0//EN
CALSCALE:GREGORIAN
METHOD:PUBLISH
X-WR-CALNAME:OWL Rocks
X-ORIGINAL-URL:https://owlrocks.de
X-WR-CALDESC:Veranstaltungen für OWL Rocks
REFRESH-INTERVAL;VALUE=DURATION:PT1H
X-Robots-Tag:noindex
X-PUBLISHED-TTL:PT1H
BEGIN:VTIMEZONE
TZID:Europe/Berlin
BEGIN:DAYLIGHT
TZOFFSETFROM:+0100
TZOFFSETTO:+0200
TZNAME:CEST
DTSTART:20250330T010000
END:DAYLIGHT
BEGIN:STANDARD
TZOFFSETFROM:+0200
TZOFFSETTO:+0100
TZNAME:CET
DTSTART:20251026T010000
END:STANDARD
BEGIN:DAYLIGHT
TZOFFSETFROM:+0100
TZOFFSETTO:+0200
TZNAME:CEST
DTSTART:20260329T010000
END:DAYLIGHT
BEGIN:STANDARD
TZOFFSETFROM:+0200
TZOFFSETTO:+0100
TZNAME:CET
DTSTART:20261025T010000
END:STANDARD
BEGIN:DAYLIGHT
TZOFFSETFROM:+0100
TZOFFSETTO:+0200
TZNAME:CEST
DTSTART:20270328T010000
END:DAYLIGHT
BEGIN:STANDARD
TZOFFSETFROM:+0200
TZOFFSETTO:+0100
TZNAME:CET
DTSTART:20271031T010000
END:STANDARD
END:VTIMEZONE
BEGIN:VEVENT
DTSTART;TZID=Europe/Berlin:20260425T140000
DTEND;TZID=Europe/Berlin:20260425T140000
DTSTAMP:20260425T032504
CREATED:20260422T191747Z
LAST-MODIFIED:20260422T191747Z
UID:611-1777125600-1777125600@owlrocks.de
SUMMARY:Kalletal-Langenholzhausen: Meet ’Em All – Vol. 4
DESCRIPTION:Alle Infos unter https://www.facebook.com/events/1517402439667311/
URL:https://owlrocks.de/event/kalletal-langenholzhausen-meet-em-all-vol-4/
LOCATION:Kalletal-Langenholzhausen MEET EM ALL\, Am Lehmstich 9\, Kalletal\, 32689\, Germany
END:VEVENT
BEGIN:VEVENT
DTSTART;TZID=Europe/Berlin:20260425T190000
DTEND;TZID=Europe/Berlin:20260425T190000
DTSTAMP:20260425T032504
CREATED:20260215T185359Z
LAST-MODIFIED:20260227T111845Z
UID:345-1777143600-1777143600@owlrocks.de
SUMMARY:Bielefeld / JZ Stricker: All Nine Yards + Since April + LaVila + I.VORTEX
DESCRIPTION:𝐀𝐥𝐥 𝐍𝐢𝐧𝐞 𝐘𝐚𝐫𝐝𝐬 𝐚𝐮𝐟 „𝐒𝐨 𝐌𝐮𝐜𝐡 𝐅𝐨𝐫 𝐋𝐨𝐯𝐞 𝐓𝐨𝐮𝐫 𝟐𝟎𝟐𝟔“ 𝐀𝐊: 15\,-𝐕𝐕𝐊: 10\,- \nTickets
URL:https://owlrocks.de/event/bielefeld-jz-stricker-all-nine-yards-since-april-lavila-emily-beadle/
LOCATION:JZ Stricker\, Gaswerkstraße 39\, Bielefeld\, 33647\, Germany
END:VEVENT
BEGIN:VEVENT
DTSTART;TZID=Europe/Berlin:20260425T190000
DTEND;TZID=Europe/Berlin:20260425T190000
DTSTAMP:20260425T032504
CREATED:20260422T190641Z
LAST-MODIFIED:20260422T190713Z
UID:605-1777143600-1777143600@owlrocks.de
SUMMARY:Oelde / Alte Post: We'rewolf\, Astra Zombies\, LaMoria Grande.
DESCRIPTION:Walpurgisnachtkonzert\n\n\n\n\nVVK 13 €\n\n\nAK 16 €\n\n\n\nEs ist mal wieder so weit. Die @astrazombies laden zum Splatterfest in Oelde ein. Dieses Mal zum Zerhackstückeln mit dabei: die grandiosen @lamoriagrande und die herausragende @wearewolfband. \nhttps://www.instagram.com/p/DW3d_4cjQ3D/
URL:https://owlrocks.de/event/oelde-alte-post-werewolf-astra-zombies-lamoria-grande/
LOCATION:Alte Post\, Bahnhofstraße 27\, Oelde\, 59302\, Germany
END:VEVENT
BEGIN:VEVENT
DTSTART;TZID=Europe/Berlin:20260425T190000
DTEND;TZID=Europe/Berlin:20260425T233000
DTSTAMP:20260425T032504
CREATED:20260402T083745Z
LAST-MODIFIED:20260406T184849Z
UID:534-1777143600-1777159800@owlrocks.de
SUMMARY:Herford / SZ FLAFLA: Temmis + Hear me out + Prom Vagabonds(NL)
DESCRIPTION:Tickets\nTEMMIS x HEAR ME OUT x PROM VAGABONDS | mayapapaya booking
URL:https://owlrocks.de/event/herford-sz-flafla-temmis-hear-me-out-prom-vagabondsnl/
LOCATION:SZ FLAFLA\, Diebrocker Str. 2-4\, Herford\, 32051
END:VEVENT
BEGIN:VEVENT
DTSTART;TZID=Europe/Berlin:20260425T193000
DTEND;TZID=Europe/Berlin:20260425T193000
DTSTAMP:20260425T032504
CREATED:20260111T014746Z
LAST-MODIFIED:20260111T014746Z
UID:89-1777145400-1777145400@owlrocks.de
SUMMARY:Warburg-Scherfede / Mehrzweckhalle : Rock gegen Regen FESTIVAL
DESCRIPTION:Rock gegen Regen: das Warmup-Festival zur Festivalsaison.\nDie Acts:  • Elfmorgen  • Treptow • Gymmick  • Scunks \nInfos unter https://rockgegenregen.de/
URL:https://owlrocks.de/event/warburg-scherfede-mehrzweckhalle-rock-gegen-regen-festival/
LOCATION:Mehrzweckhalle Warburg\, Bruchring 37\, Warburg\, 34414\, Germany
END:VEVENT
BEGIN:VEVENT
DTSTART;TZID=Europe/Berlin:20260425T200000
DTEND;TZID=Europe/Berlin:20260425T200000
DTSTAMP:20260425T032504
CREATED:20260328T134827Z
LAST-MODIFIED:20260329T132949Z
UID:509-1777147200-1777147200@owlrocks.de
SUMMARY:Detmold / Alte Pauline: Ian Leding + The Vile Ends
DESCRIPTION:Albumrelease von Ian Leding zusammen mit The Vile Ends \nEinlass ab 20 Uhr \nBeginn ab 21 Uhr \nEintritt unbekannt.
URL:https://owlrocks.de/event/detmold-alte-pauline-ian-leding-the-vile-ends/
LOCATION:Alte Pauline\, Bielefelder Straße 3\, Detmold\, 32756\, Germany
END:VEVENT
BEGIN:VEVENT
DTSTART;TZID=Europe/Berlin:20260425T200000
DTEND;TZID=Europe/Berlin:20260425T200000
DTSTAMP:20260425T032504
CREATED:20260424T113434Z
LAST-MODIFIED:20260424T113434Z
UID:619-1777147200-1777147200@owlrocks.de
SUMMARY:Paderborn / Zum Schlürschluck: SMACKBEAT
DESCRIPTION:https://www.facebook.com/events/1890034174822951
URL:https://owlrocks.de/event/paderborn-zum-schluerschluck-smackbeat/
LOCATION:Zum Schlürschluck\, Thuner Weg 38\, Paderborn\, 33104\, Germany
END:VEVENT
END:VCALENDAR